BEGIN:VCALENDAR
VERSION:2.0
PRODID:-//hacksw/handcal//NONSGML v1.0//EN
BEGIN:VEVENT
SUMMARY:1ERE DIVISION MASCULINE P16 AURA JOURNEE 11
UID:c7324153-c5b2-4295-9a32-e7a8342c7085
DTSTART:20260109T230000Z
DTEND:20260110T230000Z
LOCATION:Localisation EMILE PLADNER  
CATEGORIES:Sportif
STATUS:
URL;VALUE=URI:https://www.handballclubgannatois.com/evenements/2026/01/10/1ere-division-masculine-p16-aura-journee-11-2433252
END:VEVENT
END:VCALENDAR
