BEGIN:VCALENDAR
VERSION:2.0
PRODID:-//hacksw/handcal//NONSGML v1.0//EN
BEGIN:VEVENT
SUMMARY:M13 ANS MASCULIN EXCELLENCE AURA JOURNEE 1
UID:8c69276b-82f5-4f8e-a670-a3a1467ddfea
DTSTART:20260109T230000Z
DTEND:20260110T230000Z
LOCATION:Localisation GYMNASE DES PORTES D'OCCITANE  
CATEGORIES:Sportif
STATUS:
URL;VALUE=URI:https://www.handballclubgannatois.com/evenements/2026/01/10/m13-ans-masculin-excellence-aura-journee-1-2433263
END:VEVENT
END:VCALENDAR
