BEGIN:VCALENDAR
VERSION:2.0
PRODID:-//hacksw/handcal//NONSGML v1.0//EN
BEGIN:VEVENT
SUMMARY:M18 ANS FEMININ DIVISION 1 AURA JOURNEE 1
UID:1b7203ea-286c-42bb-a14e-ca78f6b085fd
DTSTART:20260110T230000Z
DTEND:20260111T230000Z
LOCATION:Localisation GYMNASE DES PORTES D'OCCITANE  
CATEGORIES:Sportif
STATUS:
URL;VALUE=URI:https://www.handballclubgannatois.com/evenements/2026/01/11/m18-ans-feminin-division-1-aura-journee-1-2433283
END:VEVENT
END:VCALENDAR
