BEGIN:VCALENDAR
VERSION:2.0
PRODID:-//hacksw/handcal//NONSGML v1.0//EN
BEGIN:VEVENT
SUMMARY:M13 ANS FEMININ DIVISION 2 AURA JOURNEE 2
UID:7a59b24e-e83c-4b0b-acbf-e385c183757f
DTSTART:20260116T230000Z
DTEND:20260117T230000Z
LOCATION:Localisation SALLE OMNISPORTS JEAN REYNAUD  
CATEGORIES:Sportif
STATUS:
URL;VALUE=URI:https://www.handballclubgannatois.com/evenements/2026/01/17/m13-ans-feminin-division-2-aura-journee-2-2433255
END:VEVENT
END:VCALENDAR
