BEGIN:VCALENDAR
VERSION:2.0
PRODID:-//hacksw/handcal//NONSGML v1.0//EN
BEGIN:VEVENT
SUMMARY:M13 ANS MASCULIN EXCELLENCE AURA JOURNEE 2
UID:56748146-dc4e-4b1c-84ff-69d148b61c05
DTSTART:20260116T230000Z
DTEND:20260117T230000Z
LOCATION:Localisation COMPLEXE SPORTIF INTERCOMMUNAL  
CATEGORIES:Sportif
STATUS:
URL;VALUE=URI:https://www.handballclubgannatois.com/evenements/2026/01/17/m13-ans-masculin-excellence-aura-journee-2-2433264
END:VEVENT
END:VCALENDAR
