BEGIN:VCALENDAR
VERSION:2.0
PRODID:-//hacksw/handcal//NONSGML v1.0//EN
BEGIN:VEVENT
SUMMARY:1ERE DIVISION MASCULINE P16 AURA JOURNEE 12
UID:154c5f53-2dae-4494-9ab6-1c07085ff85f
DTSTART:20260117T230000Z
DTEND:20260118T230000Z
LOCATION:Localisation PEROUSES  
CATEGORIES:Sportif
STATUS:
URL;VALUE=URI:https://www.handballclubgannatois.com/evenements/2026/01/18/1ere-division-masculine-p16-aura-journee-12-2433253
END:VEVENT
END:VCALENDAR
