BEGIN:VCALENDAR
VERSION:2.0
PRODID:-//hacksw/handcal//NONSGML v1.0//EN
BEGIN:VEVENT
SUMMARY:1ERE DIVISION MASCULINE P16 AURA JOURNEE 13
UID:1333e806-2a06-4bf0-ab8a-a66dc107ba96
DTSTART:20260124T230000Z
DTEND:20260125T230000Z
LOCATION:Localisation GYMNASE DES PORTES D'OCCITANE  
CATEGORIES:Sportif
STATUS:
URL;VALUE=URI:https://www.handballclubgannatois.com/evenements/2026/01/25/1ere-division-masculine-p16-aura-journee-13-2433254
END:VEVENT
END:VCALENDAR
