BEGIN:VCALENDAR
VERSION:2.0
PRODID:-//hacksw/handcal//NONSGML v1.0//EN
BEGIN:VEVENT
SUMMARY:M13 ANS MASCULIN EXCELLENCE AURA JOURNEE 9
UID:7b6b9e2a-b303-4248-8b78-1ff109c0dc2d
DTSTART:20260508T220000Z
DTEND:20260509T220000Z
LOCATION:Localisation GYMNASE DES PORTES D'OCCITANE  
CATEGORIES:Sportif
STATUS:
URL;VALUE=URI:https://www.handballclubgannatois.com/evenements/2026/05/09/m13-ans-masculin-excellence-aura-journee-9-2433271
END:VEVENT
END:VCALENDAR
